BEGIN:VCALENDAR
VERSION:2.0
PRODID:-//Canadian Union of Public Employees - ECPv6.15.11//NONSGML v1.0//EN
CALSCALE:GREGORIAN
METHOD:PUBLISH
X-ORIGINAL-URL:https://www.local107.com
X-WR-CALDESC:Events for Canadian Union of Public Employees
REFRESH-INTERVAL;VALUE=DURATION:PT1H
X-Robots-Tag:noindex
X-PUBLISHED-TTL:PT1H
BEGIN:VTIMEZONE
TZID:UTC
BEGIN:STANDARD
TZOFFSETFROM:+0000
TZOFFSETTO:+0000
TZNAME:UTC
DTSTART:20250101T000000
END:STANDARD
END:VTIMEZONE
BEGIN:VEVENT
DTSTART;TZID=UTC:20260512T193000
DTEND;TZID=UTC:20260512T203000
DTSTAMP:20260423T081712
CREATED:20260306T212655Z
LAST-MODIFIED:20260306T212655Z
UID:1606-1778614200-1778617800@www.local107.com
SUMMARY:General Member Meeting
DESCRIPTION:This is a general members meeting for informational purposes.
URL:https://www.local107.com/event/general-member-meeting-10/
LOCATION:Local 107 Chapter HQ New Location\, 109 Falcon St\, London\, Ontario\, Canada
CATEGORIES:Member Meetings
END:VEVENT
END:VCALENDAR